BEGIN:VCALENDAR
VERSION:2.0
PRODID:-//creativ verpacken - ECPv6.15.20//NONSGML v1.0//EN
CALSCALE:GREGORIAN
METHOD:PUBLISH
X-ORIGINAL-URL:https://creativverpacken.de
X-WR-CALDESC:Veranstaltungen für creativ verpacken
REFRESH-INTERVAL;VALUE=DURATION:PT1H
X-Robots-Tag:noindex
X-PUBLISHED-TTL:PT1H
BEGIN:VTIMEZONE
TZID:Europe/Berlin
BEGIN:DAYLIGHT
TZOFFSETFROM:+0100
TZOFFSETTO:+0200
TZNAME:CEST
DTSTART:20230326T010000
END:DAYLIGHT
BEGIN:STANDARD
TZOFFSETFROM:+0200
TZOFFSETTO:+0100
TZNAME:CET
DTSTART:20231029T010000
END:STANDARD
BEGIN:DAYLIGHT
TZOFFSETFROM:+0100
TZOFFSETTO:+0200
TZNAME:CEST
DTSTART:20240331T010000
END:DAYLIGHT
BEGIN:STANDARD
TZOFFSETFROM:+0200
TZOFFSETTO:+0100
TZNAME:CET
DTSTART:20241027T010000
END:STANDARD
BEGIN:DAYLIGHT
TZOFFSETFROM:+0100
TZOFFSETTO:+0200
TZNAME:CEST
DTSTART:20250330T010000
END:DAYLIGHT
BEGIN:STANDARD
TZOFFSETFROM:+0200
TZOFFSETTO:+0100
TZNAME:CET
DTSTART:20251026T010000
END:STANDARD
BEGIN:DAYLIGHT
TZOFFSETFROM:+0100
TZOFFSETTO:+0200
TZNAME:CEST
DTSTART:20260329T010000
END:DAYLIGHT
BEGIN:STANDARD
TZOFFSETFROM:+0200
TZOFFSETTO:+0100
TZNAME:CET
DTSTART:20261025T010000
END:STANDARD
BEGIN:DAYLIGHT
TZOFFSETFROM:+0100
TZOFFSETTO:+0200
TZNAME:CEST
DTSTART:20270328T010000
END:DAYLIGHT
BEGIN:STANDARD
TZOFFSETFROM:+0200
TZOFFSETTO:+0100
TZNAME:CET
DTSTART:20271031T010000
END:STANDARD
END:VTIMEZONE
BEGIN:VEVENT
DTSTART;VALUE=DATE:20260315
DTEND;VALUE=DATE:20260318
DTSTAMP:20260421T162040
CREATED:20201216T155417Z
LAST-MODIFIED:20260112T144113Z
UID:5549-1773532800-1773791999@creativverpacken.de
SUMMARY:ProWein\, Düsseldorf
DESCRIPTION:internationale Fachmesse für Weine und Spirituosen\nOrt: Düsseldorf\, Messegelände
URL:https://creativverpacken.de/veranstaltung/prowein-duesseldorf/
CATEGORIES:Messen
ATTACH;FMTTYPE=image/jpeg:https://creativverpacken.de/wp-content/uploads/2021/03/MessePlatzhalterDigital-e1767003916493.jpg
END:VEVENT
BEGIN:VEVENT
DTSTART;VALUE=DATE:20260313
DTEND;VALUE=DATE:20260318
DTSTAMP:20260421T162040
CREATED:20211027T160910Z
LAST-MODIFIED:20260112T143914Z
UID:9020-1773360000-1773791999@creativverpacken.de
SUMMARY:Internorga
DESCRIPTION:INTERNORGA \n„WO TRENDS LAUFEN LERNEN.“ \n\n\n\nDie INTERNORGA ist die internationale Leitmesse für Hospitality und Foodservice. Als jährlicher Treffpunkt für diese Branchen findet sie inmitten der pulsierenden Metropole Hamburg statt. Nationale und internationale Ausstellende präsentieren Fachbesuchenden ihre Produkte\, Trends und Innovationen für den gesamten Außer-Haus-Markt.\n\n\n\nOrt: Hamburg\, Messegelände
URL:https://creativverpacken.de/veranstaltung/internorga-2/
CATEGORIES:Messen
ATTACH;FMTTYPE=image/png:https://creativverpacken.de/wp-content/uploads/2021/12/Internorga.png
END:VEVENT
BEGIN:VEVENT
DTSTART;VALUE=DATE:20260225
DTEND;VALUE=DATE:20260227
DTSTAMP:20260421T162040
CREATED:20260112T143414Z
LAST-MODIFIED:20260126T172640Z
UID:22839-1771977600-1772150399@creativverpacken.de
SUMMARY:Empack Dortmund
DESCRIPTION:Regionale Fachmesse für die Verpackungsindustrie
URL:https://creativverpacken.de/veranstaltung/empack-dortmund/
CATEGORIES:Messen
ATTACH;FMTTYPE=image/jpeg:https://creativverpacken.de/wp-content/uploads/2021/03/MessePlatzhalterDigital-e1767003916493.jpg
END:VEVENT
BEGIN:VEVENT
DTSTART;VALUE=DATE:20260222
DTEND;VALUE=DATE:20260227
DTSTAMP:20260421T162040
CREATED:20210917T110051Z
LAST-MODIFIED:20251229T102527Z
UID:8583-1771718400-1772150399@creativverpacken.de
SUMMARY:EuroShop
DESCRIPTION:Düsseldorf\, Messegelände
URL:https://creativverpacken.de/veranstaltung/euroshop-2/
CATEGORIES:Messen
ATTACH;FMTTYPE=image/jpeg:https://creativverpacken.de/wp-content/uploads/2021/03/MessePlatzhalterDigital-e1767003916493.jpg
END:VEVENT
BEGIN:VEVENT
DTSTART;VALUE=DATE:20260210
DTEND;VALUE=DATE:20260214
DTSTAMP:20260421T162040
CREATED:20231113T145907Z
LAST-MODIFIED:20260126T172428Z
UID:16134-1770681600-1771027199@creativverpacken.de
SUMMARY:BioFach
DESCRIPTION:Weltleitmesse für Bio-Lebensmittel\nNürnberg\, Messeglände
URL:https://creativverpacken.de/veranstaltung/biofach/
CATEGORIES:Messen
ATTACH;FMTTYPE=image/jpeg:https://creativverpacken.de/wp-content/uploads/2023/11/BIOFACH-Logo-72dpi-rgb.jpg
END:VEVENT
BEGIN:VEVENT
DTSTART;VALUE=DATE:20260205
DTEND;VALUE=DATE:20260207
DTSTAMP:20260421T162040
CREATED:20241106T144200Z
LAST-MODIFIED:20260126T172542Z
UID:19570-1770249600-1770422399@creativverpacken.de
SUMMARY:Paris Packaging Week
DESCRIPTION:
URL:https://creativverpacken.de/veranstaltung/paris-packaging-week/
CATEGORIES:Messen
ATTACH;FMTTYPE=image/jpeg:https://creativverpacken.de/wp-content/uploads/2021/03/MessePlatzhalterDigital-e1767003916493.jpg
END:VEVENT
BEGIN:VEVENT
DTSTART;VALUE=DATE:20260201
DTEND;VALUE=DATE:20260205
DTSTAMP:20260421T162040
CREATED:20241106T120105Z
LAST-MODIFIED:20260112T142822Z
UID:19510-1769904000-1770249599@creativverpacken.de
SUMMARY:ISM / ProSweets
DESCRIPTION:Bild: Koelnmesse \nDie Süßwarenmesse und die Zulieferer im Doppelpack\nOrt: KoelnMesse\, Köln Deutz
URL:https://creativverpacken.de/veranstaltung/ism-prosweets/
CATEGORIES:Messen
ATTACH;FMTTYPE=image/jpeg:https://creativverpacken.de/wp-content/uploads/2023/12/ProSweets_Cologne.jpg
END:VEVENT
BEGIN:VEVENT
DTSTART;VALUE=DATE:20251008
DTEND;VALUE=DATE:20251016
DTSTAMP:20260421T162040
CREATED:20241106T142134Z
LAST-MODIFIED:20250117T154721Z
UID:19553-1759881600-1760572799@creativverpacken.de
SUMMARY:K 2025
DESCRIPTION:K – Die internationale Messe für die Innovationen der Kunststoff- und Kautschukindustrie\n\n  \n  \n  \nOrt: Düsseldorf\, Messegelände
URL:https://creativverpacken.de/veranstaltung/k-2025/
CATEGORIES:Messen
ATTACH;FMTTYPE=image/png:https://creativverpacken.de/wp-content/uploads/2024/11/K_Portal_2025_945x192.png
END:VEVENT
BEGIN:VEVENT
DTSTART;VALUE=DATE:20251004
DTEND;VALUE=DATE:20251009
DTSTAMP:20260421T162040
CREATED:20201216T155557Z
LAST-MODIFIED:20241106T150236Z
UID:5552-1759536000-1759967999@creativverpacken.de
SUMMARY:Anuga
DESCRIPTION:Food & Beverage Business\nOrt: Köln\, Messegelände Deutz \n 
URL:https://creativverpacken.de/veranstaltung/anuga-food-tech-koeln/
CATEGORIES:Messen
ATTACH;FMTTYPE=image/jpeg:https://creativverpacken.de/wp-content/uploads/2021/03/MessePlatzhalterDigital-e1767003916493.jpg
END:VEVENT
BEGIN:VEVENT
DTSTART;VALUE=DATE:20250923
DTEND;VALUE=DATE:20250926
DTSTAMP:20260421T162040
CREATED:20211027T161144Z
LAST-MODIFIED:20250710T132616Z
UID:9026-1758585600-1758844799@creativverpacken.de
SUMMARY:FachPack
DESCRIPTION:Europäische Fachmesse für Verpackung\, Technik und Prozesse\n \nSave the Date:\nVom 23. – 25. September 2025 trifft sich die Verpackungsindustrie und ihre Anwender in Nürnberg \nOrt:\nMesse Nürnberg
URL:https://creativverpacken.de/veranstaltung/fachpack/
CATEGORIES:Messen
ATTACH;FMTTYPE=image/jpeg:https://creativverpacken.de/wp-content/uploads/2022/09/FACHPA_2021_00076_KEV-1.jpg
END:VEVENT
BEGIN:VEVENT
DTSTART;VALUE=DATE:20250915
DTEND;VALUE=DATE:20250920
DTSTAMP:20260421T162040
CREATED:20200508T100055Z
LAST-MODIFIED:20250509T082619Z
UID:671-1757894400-1758326399@creativverpacken.de
SUMMARY:drinktec
DESCRIPTION:Weltmesse für Getränke- und Liquid Food Technologie \nhttps://www.drinktec.com \nOrt: Messegelände München
URL:https://creativverpacken.de/veranstaltung/drinktec/
CATEGORIES:Messen
ATTACH;FMTTYPE=image/jpeg:https://creativverpacken.de/wp-content/uploads/2020/04/DrinkTec.jpg
END:VEVENT
BEGIN:VEVENT
DTSTART;VALUE=DATE:20250616
DTEND;VALUE=DATE:20250618
DTSTAMP:20260421T162040
CREATED:20241106T135021Z
LAST-MODIFIED:20260112T145213Z
UID:19530-1750032000-1750204799@creativverpacken.de
SUMMARY:Print & Digital Convention
DESCRIPTION:Print & Digital Convention \nOrt: Düsseldorf\, Messegelände
URL:https://creativverpacken.de/veranstaltung/print-digital-convention/
CATEGORIES:Messen
ATTACH;FMTTYPE=image/jpeg:https://creativverpacken.de/wp-content/uploads/2024/11/Print_Digital_Convention_Logo.jpg
END:VEVENT
BEGIN:VEVENT
DTSTART;VALUE=DATE:20250518
DTEND;VALUE=DATE:20250523
DTSTAMP:20260421T162040
CREATED:20200409T180955Z
LAST-MODIFIED:20241106T134432Z
UID:673-1747526400-1747958399@creativverpacken.de
SUMMARY:iba
DESCRIPTION:Weltmesse für Bäckerei\, Konditorei und Snacks \nhttps://www.iba.de/ \n \nMesse Düsseldorf
URL:https://creativverpacken.de/veranstaltung/iba/
CATEGORIES:Messen
ATTACH;FMTTYPE=image/png:https://creativverpacken.de/wp-content/uploads/2020/04/logo-iba_dunkel1.png
END:VEVENT
BEGIN:VEVENT
DTSTART;VALUE=DATE:20250506
DTEND;VALUE=DATE:20250510
DTSTAMP:20260421T162040
CREATED:20250117T155902Z
LAST-MODIFIED:20260112T102316Z
UID:20144-1746489600-1746835199@creativverpacken.de
SUMMARY:FESPA Global Print Expo
DESCRIPTION:Fespa 2025 auf dem Gelände der Messe Berlin
URL:https://creativverpacken.de/veranstaltung/fespa-global-print-expo/
CATEGORIES:Konferenzen,Messen
ATTACH;FMTTYPE=image/jpeg:https://creativverpacken.de/wp-content/uploads/2025/01/L1070986.jpg
END:VEVENT
BEGIN:VEVENT
DTSTART;VALUE=DATE:20250128
DTEND;VALUE=DATE:20250202
DTSTAMP:20260421T162040
CREATED:20241106T150841Z
LAST-MODIFIED:20241106T150841Z
UID:19584-1738022400-1738454399@creativverpacken.de
SUMMARY:Spielwarenmesse
DESCRIPTION:Ort: Nürnberg\, Messegelände
URL:https://creativverpacken.de/veranstaltung/spielwarenmesse/
CATEGORIES:Messen
ATTACH;FMTTYPE=image/jpeg:https://creativverpacken.de/wp-content/uploads/2021/03/MessePlatzhalterDigital-e1767003916493.jpg
END:VEVENT
BEGIN:VEVENT
DTSTART;VALUE=DATE:20260204
DTEND;VALUE=DATE:20260207
DTSTAMP:20260421T162040
CREATED:20200409T180952Z
LAST-MODIFIED:20260112T142909Z
UID:640-1770163200-1770422399@creativverpacken.de
SUMMARY:Fruit Logistica
DESCRIPTION:FRUIT LOGISTICA\nOrt: Berlin\, Messegelände am Funkturm
URL:https://creativverpacken.de/veranstaltung/fruit-logistica/
CATEGORIES:Messen
ATTACH;FMTTYPE=image/jpeg:https://creativverpacken.de/wp-content/uploads/2020/12/MessePlatzhalter-e1767003984161.jpg
END:VEVENT
BEGIN:VEVENT
DTSTART;VALUE=DATE:20240128
DTEND;VALUE=DATE:20240201
DTSTAMP:20260421T162040
CREATED:20220610T101414Z
LAST-MODIFIED:20230725T142721Z
UID:11323-1706400000-1706745599@creativverpacken.de
SUMMARY:ProSweets
DESCRIPTION:Die internationale Zuliefermesse für die Süßwaren- und Snackindustrie\nvom 28. bis 31. Januar 2024\n  \nOrt: Köln\, KölnMesse\, Messegelände
URL:https://creativverpacken.de/veranstaltung/prosweets/
CATEGORIES:Messen
ATTACH;FMTTYPE=image/jpeg:https://creativverpacken.de/wp-content/uploads/2020/12/MessePlatzhalter-e1767003984161.jpg
END:VEVENT
END:VCALENDAR