BEGIN:VCALENDAR
VERSION:2.0
PRODID:-//creativ verpacken - ECPv6.15.20//NONSGML v1.0//EN
CALSCALE:GREGORIAN
METHOD:PUBLISH
X-ORIGINAL-URL:https://creativverpacken.de
X-WR-CALDESC:Veranstaltungen für creativ verpacken
REFRESH-INTERVAL;VALUE=DURATION:PT1H
X-Robots-Tag:noindex
X-PUBLISHED-TTL:PT1H
BEGIN:VTIMEZONE
TZID:Europe/Berlin
BEGIN:DAYLIGHT
TZOFFSETFROM:+0100
TZOFFSETTO:+0200
TZNAME:CEST
DTSTART:20250330T010000
END:DAYLIGHT
BEGIN:STANDARD
TZOFFSETFROM:+0200
TZOFFSETTO:+0100
TZNAME:CET
DTSTART:20251026T010000
END:STANDARD
BEGIN:DAYLIGHT
TZOFFSETFROM:+0100
TZOFFSETTO:+0200
TZNAME:CEST
DTSTART:20260329T010000
END:DAYLIGHT
BEGIN:STANDARD
TZOFFSETFROM:+0200
TZOFFSETTO:+0100
TZNAME:CET
DTSTART:20261025T010000
END:STANDARD
BEGIN:DAYLIGHT
TZOFFSETFROM:+0100
TZOFFSETTO:+0200
TZNAME:CEST
DTSTART:20270328T010000
END:DAYLIGHT
BEGIN:STANDARD
TZOFFSETFROM:+0200
TZOFFSETTO:+0100
TZNAME:CET
DTSTART:20271031T010000
END:STANDARD
END:VTIMEZONE
BEGIN:VEVENT
DTSTART;VALUE=DATE:20260506
DTEND;VALUE=DATE:20260508
DTSTAMP:20260421T150550
CREATED:20260330T100025Z
LAST-MODIFIED:20260331T082058Z
UID:17138-1778025600-1778198399@creativverpacken.de
SUMMARY:Independant Paper Show\, Lausanne/Schweiz
DESCRIPTION:Independant Paper Show\n6. + 7. Mai 2026\nin Lausanne / Schweiz\nim Espace Amaretto \nwww.papershow.ch\n\n\n\n\n\n\nFoto: www.enzed.ch
URL:https://creativverpacken.de/veranstaltung/independant-paper-show-genf-schweiz/
CATEGORIES:Messen
ATTACH;FMTTYPE=image/jpeg:https://creativverpacken.de/wp-content/uploads/2024/02/IPS2026_STD2_jiw.jpg
END:VEVENT
BEGIN:VEVENT
DTSTART;VALUE=DATE:20260507
DTEND;VALUE=DATE:20260514
DTSTAMP:20260421T150550
CREATED:20200409T180954Z
LAST-MODIFIED:20260112T144354Z
UID:663-1778112000-1778716799@creativverpacken.de
SUMMARY:Interpack 2026
DESCRIPTION:Bild: Messe Düsseldorf \n\n\n\n\nInterpack\nSimply unique\nProcessing & Packaging\nMesse Düsseldorf
URL:https://creativverpacken.de/veranstaltung/interpack/
CATEGORIES:Messen
ATTACH;FMTTYPE=image/png:https://creativverpacken.de/wp-content/uploads/2023/02/Interpack_2023.png
END:VEVENT
BEGIN:VEVENT
DTSTART;VALUE=DATE:20260512
DTEND;VALUE=DATE:20260516
DTSTAMP:20260421T150550
CREATED:20210323T101702Z
LAST-MODIFIED:20241106T143249Z
UID:6643-1778544000-1778889599@creativverpacken.de
SUMMARY:Interzoo
DESCRIPTION:Interzoo \n\nhttps://www.interzoo.com  \nInterzoo – Leitmesse für die internationale Heimtierbranche Treffpunkt des Weltmarktes für Heimtierbedarf im Messezentrum Nürnberg. Auf der weltgrößten Fachmesse der internationalen Heimtierbranche präsentieren Hersteller\, Großhändler und Dienstleister aus über 60 Ländern Produkte für Heimtiere und Innovationen im Heimtierbedarf. \n\nOrt: Nürnberg\, Messegelände
URL:https://creativverpacken.de/veranstaltung/interzoo-2/
CATEGORIES:Messen
ATTACH;FMTTYPE=image/jpeg:https://creativverpacken.de/wp-content/uploads/2021/03/MessePlatzhalterDigital-e1767003916493.jpg
END:VEVENT
BEGIN:VEVENT
DTSTART;VALUE=DATE:20260519
DTEND;VALUE=DATE:20260522
DTSTAMP:20260421T150550
CREATED:20220620T135451Z
LAST-MODIFIED:20260112T144620Z
UID:11382-1779148800-1779407999@creativverpacken.de
SUMMARY:Packaging Première | PCD
DESCRIPTION:Fieramilanocity\, Milano\nPackaging Première\, the selective exhibition dedicated to luxury packaging. \nMailand\, Italien
URL:https://creativverpacken.de/veranstaltung/packaging-premiere-2/
CATEGORIES:Messen
ATTACH;FMTTYPE=image/jpeg:https://creativverpacken.de/wp-content/uploads/2022/06/L1070983.jpg
END:VEVENT
END:VCALENDAR