BEGIN:VCALENDAR
VERSION:2.0
PRODID:-//creativ verpacken - ECPv6.15.20//NONSGML v1.0//EN
CALSCALE:GREGORIAN
METHOD:PUBLISH
X-ORIGINAL-URL:https://creativverpacken.de
X-WR-CALDESC:Veranstaltungen für creativ verpacken
REFRESH-INTERVAL;VALUE=DURATION:PT1H
X-Robots-Tag:noindex
X-PUBLISHED-TTL:PT1H
BEGIN:VTIMEZONE
TZID:Europe/Berlin
BEGIN:DAYLIGHT
TZOFFSETFROM:+0100
TZOFFSETTO:+0200
TZNAME:CEST
DTSTART:20250330T010000
END:DAYLIGHT
BEGIN:STANDARD
TZOFFSETFROM:+0200
TZOFFSETTO:+0100
TZNAME:CET
DTSTART:20251026T010000
END:STANDARD
BEGIN:DAYLIGHT
TZOFFSETFROM:+0100
TZOFFSETTO:+0200
TZNAME:CEST
DTSTART:20260329T010000
END:DAYLIGHT
BEGIN:STANDARD
TZOFFSETFROM:+0200
TZOFFSETTO:+0100
TZNAME:CET
DTSTART:20261025T010000
END:STANDARD
BEGIN:DAYLIGHT
TZOFFSETFROM:+0100
TZOFFSETTO:+0200
TZNAME:CEST
DTSTART:20270328T010000
END:DAYLIGHT
BEGIN:STANDARD
TZOFFSETFROM:+0200
TZOFFSETTO:+0100
TZNAME:CET
DTSTART:20271031T010000
END:STANDARD
END:VTIMEZONE
BEGIN:VEVENT
DTSTART;VALUE=DATE:20260927
DTEND;VALUE=DATE:20261002
DTSTAMP:20260421T203756
CREATED:20211027T161303Z
LAST-MODIFIED:20260112T145447Z
UID:9029-1790467200-1790899199@creativverpacken.de
SUMMARY:Tax Free World - TFWA
DESCRIPTION:Duty free and travel retail’s global summit\, held every year in Cannes on France’s Cote d’Azur. \nOrt: Cannes\, Palais des Festival
URL:https://creativverpacken.de/veranstaltung/tax-free-world-ass-tfwa/
CATEGORIES:Messen
ATTACH;FMTTYPE=image/webp:https://creativverpacken.de/wp-content/uploads/2021/10/home-salon-cannes-1600x512-1-e1767004075596.webp
END:VEVENT
BEGIN:VEVENT
DTSTART;VALUE=DATE:20260928
DTEND;VALUE=DATE:20261001
DTSTAMP:20260421T203756
CREATED:20210924T131809Z
LAST-MODIFIED:20260112T145609Z
UID:8693-1790553600-1790812799@creativverpacken.de
SUMMARY:Luxe Pack Monaco
DESCRIPTION:Ort: Monte Carlo\, Grimaldi Forum
URL:https://creativverpacken.de/veranstaltung/luxe-pack-monaco-2024/
CATEGORIES:Messen
ATTACH;FMTTYPE=image/jpeg:https://creativverpacken.de/wp-content/uploads/2020/12/MessePlatzhalter-e1767003984161.jpg
END:VEVENT
END:VCALENDAR