BEGIN:VCALENDAR
VERSION:2.0
PRODID:-//creativ verpacken - ECPv6.15.20//NONSGML v1.0//EN
CALSCALE:GREGORIAN
METHOD:PUBLISH
X-WR-CALNAME:creativ verpacken
X-ORIGINAL-URL:https://creativverpacken.de
X-WR-CALDESC:Veranstaltungen für creativ verpacken
REFRESH-INTERVAL;VALUE=DURATION:PT1H
X-Robots-Tag:noindex
X-PUBLISHED-TTL:PT1H
BEGIN:VTIMEZONE
TZID:Europe/Berlin
BEGIN:DAYLIGHT
TZOFFSETFROM:+0100
TZOFFSETTO:+0200
TZNAME:CEST
DTSTART:20260329T010000
END:DAYLIGHT
BEGIN:STANDARD
TZOFFSETFROM:+0200
TZOFFSETTO:+0100
TZNAME:CET
DTSTART:20261025T010000
END:STANDARD
BEGIN:DAYLIGHT
TZOFFSETFROM:+0100
TZOFFSETTO:+0200
TZNAME:CEST
DTSTART:20270328T010000
END:DAYLIGHT
BEGIN:STANDARD
TZOFFSETFROM:+0200
TZOFFSETTO:+0100
TZNAME:CET
DTSTART:20271031T010000
END:STANDARD
BEGIN:DAYLIGHT
TZOFFSETFROM:+0100
TZOFFSETTO:+0200
TZNAME:CEST
DTSTART:20280326T010000
END:DAYLIGHT
BEGIN:STANDARD
TZOFFSETFROM:+0200
TZOFFSETTO:+0100
TZNAME:CET
DTSTART:20281029T010000
END:STANDARD
END:VTIMEZONE
BEGIN:VEVENT
DTSTART;VALUE=DATE:20270223
DTEND;VALUE=DATE:20270227
DTSTAMP:20260422T023347
CREATED:20241106T150444Z
LAST-MODIFIED:20260112T150335Z
UID:19578-1803340800-1803686399@creativverpacken.de
SUMMARY:Anuga Food Tech
DESCRIPTION:Ort: Köln\, Messegelände Deutz
URL:https://creativverpacken.de/veranstaltung/anuga-food-tech-koeln-2/
CATEGORIES:Messen
ATTACH;FMTTYPE=image/jpeg:https://creativverpacken.de/wp-content/uploads/2021/03/MessePlatzhalterDigital-e1767003916493.jpg
END:VEVENT
END:VCALENDAR